BEGIN:VCALENDAR
VERSION:2.0
PRODID:-//ChamberMaster//Event Calendar 2.0//EN
METHOD:PUBLISH
X-PUBLISHED-TTL:P1H
REFRESH-INTERVAL:P1H
CALSCALE:GREGORIAN
BEGIN:VTIMEZONE
TZID:America/Chicago
BEGIN:DAYLIGHT
RRULE:FREQ=YEARLY;BYMONTH=3;BYDAY=2SU
DTSTART:20070101T000000
TZOFFSETFROM:-0600
TZOFFSETTO:-0500
TZNAME:Central Daylight Time
END:DAYLIGHT
BEGIN:STANDARD
RRULE:FREQ=YEARLY;BYMONTH=11;BYDAY=1SU
DTSTART:20070101T000000
TZOFFSETFROM:-0500
TZOFFSETTO:-0600
TZNAME:Central Standard Time
END:STANDARD
END:VTIMEZONE
BEGIN:VEVENT
DTSTART;VALUE=DATE:20260806
DTEND;VALUE=DATE:20260807
TRANSP:TRANSPARENT
X-MICROSOFT-CDO-ALLDAYEVENT:TRUE
SUMMARY:DECA Small Business Summit - Save the Date
DESCRIPTION:Save the date for DECA's Annual Small Business Summit in partnership with the City of Austin Economic Development.More information COMING SOON!
X-ALT-DESC;FMTTYPE=text/html:<!DOCTYPE html><html><head><title></title></head><body aria-disabled="false" data-gr-ext-installed="" data-new-gr-c-s-check-loaded="14.1282.0" data-new-gr-c-s-loaded="14.1282.0" spellcheck="false"><p>Save the date for DECA&#39\;s Annual Small Business Summit in partnership with the City of Austin Economic Development.</p><p>More information COMING SOON!</p></body></html>
LOCATION:6310 Wilhelmina Delco Dr Austin TX 78752
UID:e.3473.1444604
SEQUENCE:3
DTSTAMP:20260420T051757Z
URL:https://membership.austinlgbtchamber.com/events/Details/deca-small-business-summit-save-the-date-1710979?sourceTypeId=Hub
END:VEVENT
END:VCALENDAR
