BEGIN:VCALENDAR
VERSION:2.0
PRODID:-//ChamberMaster//Event Calendar 2.0//EN
METHOD:PUBLISH
X-PUBLISHED-TTL:P1H
REFRESH-INTERVAL:P1H
CALSCALE:GREGORIAN
BEGIN:VTIMEZONE
TZID:America/Chicago
BEGIN:DAYLIGHT
RRULE:FREQ=YEARLY;BYMONTH=3;BYDAY=2SU
DTSTART:20070101T000000
TZOFFSETFROM:-0600
TZOFFSETTO:-0500
TZNAME:Central Daylight Time
END:DAYLIGHT
BEGIN:STANDARD
RRULE:FREQ=YEARLY;BYMONTH=11;BYDAY=1SU
DTSTART:20070101T000000
TZOFFSETFROM:-0500
TZOFFSETTO:-0600
TZNAME:Central Standard Time
END:STANDARD
END:VTIMEZONE
BEGIN:VEVENT
DTSTART;TZID=America/Chicago:20260519T170000
DTEND;TZID=America/Chicago:20260519T190000
X-MICROSOFT-CDO-ALLDAYEVENT:FALSE
SUMMARY:Multi-Chamber Ribbon Cutting - Emancipet
DESCRIPTION:Join the Austin LGBT Chamber of Commerce\, the Austin Chamber\, and the Greater Austin Hispanic Chamber of Commerce for a multi-Chamber Ribbon Cutting\, followed by the clinic tours and refreshments.Ribbon cutting + photosTour the new\, expanded clinicEnjoy light refreshmentsJoin Emancipet in celebrating the opening of their new facility.🗓️ Tuesday\, May 19\n⏰ 5:00pm - 7:00pm\n📍The Amy Mills Emancipet Clinic at Lavander Loop
X-ALT-DESC;FMTTYPE=text/html:<!DOCTYPE html><html><head><title></title></head><body aria-disabled="false" spellcheck="false"><p>Join the Austin LGBT Chamber of Commerce\, the Austin Chamber\, and the Greater Austin Hispanic Chamber of Commerce for a multi-Chamber Ribbon Cutting\, followed by the clinic tours and refreshments.</p><ul fr-original-style="" style="list-style-position: inside\;"><li>Ribbon cutting + photos</li><li>Tour the new\, expanded clinic</li><li>Enjoy light refreshments</li></ul><p>Join Emancipet in celebrating the opening of their new facility.</p><p>🗓️ Tuesday\, May 19<br>⏰ 5:00pm - 7:00pm<br>📍The Amy Mills Emancipet Clinic at Lavander Loop</p></body></html>
LOCATION:7201 Lavender Loop Austin 78702
UID:e.3473.1439234
SEQUENCE:3
DTSTAMP:20260420T045819Z
URL:https://membership.austinlgbtchamber.com/events/Details/multi-chamber-ribbon-cutting-emancipet-1703601?sourceTypeId=Hub
END:VEVENT
END:VCALENDAR
